BEGIN:VCALENDAR
VERSION:2.0
PRODID:-//Focus HR - ECPv6.15.20//NONSGML v1.0//EN
CALSCALE:GREGORIAN
METHOD:PUBLISH
X-WR-CALNAME:Focus HR
X-ORIGINAL-URL:https://www.focushr.com.au
X-WR-CALDESC:Events for Focus HR
REFRESH-INTERVAL;VALUE=DURATION:PT1H
X-Robots-Tag:noindex
X-PUBLISHED-TTL:PT1H
BEGIN:VTIMEZONE
TZID:Australia/Brisbane
BEGIN:STANDARD
TZOFFSETFROM:+1000
TZOFFSETTO:+1000
TZNAME:AEST
DTSTART:20210101T000000
END:STANDARD
END:VTIMEZONE
BEGIN:VEVENT
DTSTART;TZID=Australia/Brisbane:20220331T093000
DTEND;TZID=Australia/Brisbane:20220331T113000
DTSTAMP:20260426T004717
CREATED:20210603T010017Z
LAST-MODIFIED:20220306T070622Z
UID:1726-1648719000-1648726200@www.focushr.com.au
SUMMARY:Effective Meetings - A Leading Teams Workshop
DESCRIPTION:Meetings can often be a ‘we’ll do this because we have to’ race-through or a drawn-out time waster for everyone involved. Both options are expensive for the business. \nThis session will look at when to have meetings\, types of meetings\, how to have meetings (format and structure) and what to record. We’ll also focus on setting ground rules for the meeting to ensure they add value and encouraging different perspectives to get the best from participants.  Deliverables from the workshop include a guide to the perfect meeting and meeting agenda templates. \nAgenda \n\nWhy are effective meetings important?\nWhat is the true purpose of a meeting?\nDifferent types of meetings – and when to use them\nThe benefits of more frequent meetings\nThe ultimate guide to the perfect meeting\nHow to deal with the dominator\nMeeting agenda templates\n\nNo availability in this session? We will be holding another session in the near future. Please contact us to register your interest in the next date for this workshop.
URL:https://www.focushr.com.au/event/effective-meetings-2/
LOCATION:Online
CATEGORIES:Leading Teams Training
ORGANIZER;CN="Focus HR":MAILTO:info@focushr.com.au
END:VEVENT
END:VCALENDAR