BEGIN:VCALENDAR
VERSION:2.0
PRODID:-//Focus HR - ECPv6.15.20//NONSGML v1.0//EN
CALSCALE:GREGORIAN
METHOD:PUBLISH
X-WR-CALNAME:Focus HR
X-ORIGINAL-URL:https://www.focushr.com.au
X-WR-CALDESC:Events for Focus HR
REFRESH-INTERVAL;VALUE=DURATION:PT1H
X-Robots-Tag:noindex
X-PUBLISHED-TTL:PT1H
BEGIN:VTIMEZONE
TZID:Australia/Brisbane
BEGIN:STANDARD
TZOFFSETFROM:+1000
TZOFFSETTO:+1000
TZNAME:AEST
DTSTART:20210101T000000
END:STANDARD
END:VTIMEZONE
BEGIN:VEVENT
DTSTART;TZID=Australia/Brisbane:20220512T120000
DTEND;TZID=Australia/Brisbane:20220512T130000
DTSTAMP:20260425T203510
CREATED:20220217T015634Z
LAST-MODIFIED:20220520T000541Z
UID:3210-1652356800-1652360400@www.focushr.com.au
SUMMARY:Feedback & Performance Appraisals: A Development Focus - FREE webinar
DESCRIPTION:Performance reviews don’t improve performance. We know … that is like excommunicating ourselves from the HR profession … but they don’t. We need to move the mindset from performance review to performance development.  Every manager also needs to see a key part of their role as coaching the people in their teams. Not just training\, monitoring\, performance managing\, but genuinely coaching them to succeed. \nBecause of this\, Focus HR has adapted the contemporary Tim Baker’s ‘5 Conversations’ Model for performance appraisals and added a 6th topic where Success Indicators (KPIs/Targets or other similar measurements) apply. Together\, they form our 6 Coaching Conversations. \nJoin us as we take you through this new way of developing your people. \nYou can watch the recording of this webinar here \nNot sure whether this webinar is for you? Take our free 3 minute scorecard and find out!
URL:https://www.focushr.com.au/event/feedback-performance-appraisals-a-development-focus-free-webinar/
LOCATION:Online
CATEGORIES:Focus HR Events,Free Webinars
ATTACH;FMTTYPE=image/png:https://www.focushr.com.au/wp-content/uploads/4-1.png
ORGANIZER;CN="Focus HR":MAILTO:info@focushr.com.au
END:VEVENT
END:VCALENDAR