BEGIN:VCALENDAR
VERSION:2.0
PRODID:-//Focus HR - ECPv6.15.20//NONSGML v1.0//EN
CALSCALE:GREGORIAN
METHOD:PUBLISH
X-WR-CALNAME:Focus HR
X-ORIGINAL-URL:https://www.focushr.com.au
X-WR-CALDESC:Events for Focus HR
REFRESH-INTERVAL;VALUE=DURATION:PT1H
X-Robots-Tag:noindex
X-PUBLISHED-TTL:PT1H
BEGIN:VTIMEZONE
TZID:Australia/Brisbane
BEGIN:STANDARD
TZOFFSETFROM:+1000
TZOFFSETTO:+1000
TZNAME:AEST
DTSTART:20240101T000000
END:STANDARD
END:VTIMEZONE
BEGIN:VEVENT
DTSTART;TZID=Australia/Brisbane:20251015T090000
DTEND;TZID=Australia/Brisbane:20251015T130000
DTSTAMP:20260423T012742
CREATED:20250530T043018Z
LAST-MODIFIED:20250922T225304Z
UID:7543-1760518800-1760533200@www.focushr.com.au
SUMMARY:DiSC for Workplace Workshop
DESCRIPTION:Unlock the secrets to improving communication\, teamwork and workplace culture in our powerful DiSC workshops \nHow well do you really understand the people you work with?\nEvery workplace brings together unique personalities\, each with different ways of communicating\, collaborating and responding to challenges. Without the right tools\, these differences can lead to misunderstandings\, frustration and inefficiencies. \nThe DiSC for workplace workshop provides individuals and teams with the insights\, strategies and tools to build stronger\, more effective relationships – boosting engagement\, collaboration and performance. \nWhat you’ll gain:\n✔ Personalised DiSC profile report – A fully customised report that provides insights into your behavioural style\, communication preferences\, and how you interact with others.\n✔ Deep understanding of your work style – Learn what motivates you\, how you handle challenges\, and how to use your strengths effectively.\n✔ Strategies for adapting to different personalities – Discover how to flex your approach to better connect with and influence colleagues\, managers and clients.\n✔ Improved team collaboration – Learn how to navigate differences\, reduce workplace friction\, and foster a more positive\, productive work environment.\n✔ Interactive and engaging workshop – Experience real-life workplace scenarios\, practical exercises and discussions to help you apply DiSC principles in your day-to-day work.\n✔ A common language for your team – Walk away with a shared framework that makes workplace communication clearer\, smoother and more effective. \nWho should attend?\n\nBusiness professionals who want to improve workplace communication and teamwork\nLeaders and managers looking for practical tools to enhance team dynamics and workplace culture\nHR and People & Culture teams seeking a structured\, proven approach to understanding and managing team behaviours.\nTeams that want to work better together\, improve relationships\, and create a more engaging workplace.\n\nInvestment & pricing for DiSC workshop\n\n\n\n# Attendees\nPrice including Profile\nPrice for participants with an existing profile\n\n\n1\n$555\n$320\n\n\n2-4\n$525\n$295\n\n\n5+\n$490\n$260\n\n\n\nBonus: Gain access to additional insights and follow-up tools through Everything DiSC Catalyst Platform – helping you apply what you’ve learned beyond the workshop! \nSecure your spot today!\nDiSC is more than just a personality test – it’s a transformational tool that helps individuals and teams connect\, collaborate\, and communicate more effectively. \nSeats are limited\, and demand is high! Don’t miss this opportunity to elevate your team’s communication\, collaboration\, and workplace culture. \nContact our team today to register for these workshops.
URL:https://www.focushr.com.au/event/disc-for-workplace-workshop/
LOCATION:Qld
ATTACH;FMTTYPE=image/png:https://www.focushr.com.au/wp-content/uploads/Workshop-style-12-1.png
END:VEVENT
END:VCALENDAR