BEGIN:VCALENDAR
VERSION:2.0
PRODID:-//Focus HR - ECPv6.15.20//NONSGML v1.0//EN
CALSCALE:GREGORIAN
METHOD:PUBLISH
X-ORIGINAL-URL:https://www.focushr.com.au
X-WR-CALDESC:Events for Focus HR
REFRESH-INTERVAL;VALUE=DURATION:PT1H
X-Robots-Tag:noindex
X-PUBLISHED-TTL:PT1H
BEGIN:VTIMEZONE
TZID:Australia/Brisbane
BEGIN:STANDARD
TZOFFSETFROM:+1000
TZOFFSETTO:+1000
TZNAME:AEST
DTSTART:20210101T000000
END:STANDARD
END:VTIMEZONE
BEGIN:VEVENT
DTSTART;TZID=Australia/Brisbane:20250703T130000
DTEND;TZID=Australia/Brisbane:20250703T170000
DTSTAMP:20260423T001644
CREATED:20250321T051244Z
LAST-MODIFIED:20250514T033452Z
UID:7374-1751547600-1751562000@www.focushr.com.au
SUMMARY:Effective Onboarding & Induction Workshop: Setting Your New Hires Up for Success
DESCRIPTION:A well-designed onboarding and induction program is critical to the success of your new hires and to protecting your investment in recruitment and training. The costs associated with hiring and training are often underestimated\, and failure to onboard effectively can lead to avoidable setbacks \nAn effective onboarding process not only helps new employees build trust\, understand your company’s values\, and set clear expectations but also equips them with the tools and knowledge needed to become productive quickly. Research shows that a new hire’s experience in their first few months shapes their long-term success and engagement. \nIn this group workshop\, Focus HR will guide you through the creation of a structured\, comprehensive onboarding process that delivers a positive first impression and accelerates new employee success. When employees ramp up quickly\, they gain the respect of their managers\, boosting their confidence and fostering a sense of belonging—key ingredients for long-term success and retention. \nWorkshop Details: \n\nA half-day group workshop focused on developing and customising your onboarding and induction process.\nOpportunity to workshop with other businesses also participating in this group workshop\, expanding your knowledge base and learning from shared experiences.\n\nIncluded Resources: \n\nPre-boarding\, induction\, and sign-off checklists\nBuddy system setup guide\nExample Induction Trello Board\nEmployee communication templates (expectations\, first-day info)\nTraining Skills Matrix\nManager and peer check-in guides\nTemplate Position Descriptions\nTailored Employee Handbook\nPerformance tools for probation and first 6 months\n\nInterested? \nCost for this workshop and included resources is $1\,074 + GST per business  (with up to 5 participants per business) \nRegister now! \nShould you have any questions\, please reach out to our team. \nWe look forward to working with you to implement a smooth\, effective onboarding process for your new hires. \n\n\n	Workshop Attendance – Induction and Onboarding Workshop\n	$1\,074.00 plus GST
URL:https://www.focushr.com.au/event/iob-2025/
LOCATION:Toowoomba Sports Ground Function Room\, Arthur Street\, Toowoomba\, Queensland\, 4350\, Australia
CATEGORIES:Focus HR Events
ATTACH;FMTTYPE=image/png:https://www.focushr.com.au/wp-content/uploads/Workshop-style-16.png
END:VEVENT
BEGIN:VEVENT
DTSTART;TZID=Australia/Brisbane:20241121T120000
DTEND;TZID=Australia/Brisbane:20241121T133000
DTSTAMP:20260423T001644
CREATED:20221121T012151Z
LAST-MODIFIED:20241113T060844Z
UID:4815-1732190400-1732195800@www.focushr.com.au
SUMMARY:Destination Postcard Workshop
DESCRIPTION:Take a breath… \nand get ready to dive into 2025. \nCome up for air. Step away from your desk and join us for Destination Postcard – a free 1.5 hour workshop (with delicious lunch provided). \n2025 will be a year for working smarter\, not harder. For making the most of the resources you already have at your fingertips and for aligning your team. \nAnd we are here to help! \nWalk away from this workshop with the start of an exciting plan for your business in 2025.
URL:https://www.focushr.com.au/event/destination-postcard/
LOCATION:Toowoomba Sports Ground Function Room\, Arthur Street\, Toowoomba\, Queensland\, 4350\, Australia
CATEGORIES:Focus HR Events
ATTACH;FMTTYPE=image/png:https://www.focushr.com.au/wp-content/uploads/5-1-1.png
ORGANIZER;CN="Focus HR":MAILTO:info@focushr.com.au
END:VEVENT
BEGIN:VEVENT
DTSTART;TZID=Australia/Brisbane:20241114T123000
DTEND;TZID=Australia/Brisbane:20241114T133000
DTSTAMP:20260423T001644
CREATED:20241017T055656Z
LAST-MODIFIED:20241017T060652Z
UID:7013-1731587400-1731591000@www.focushr.com.au
SUMMARY:Blanchard Management Essentials | Preview WEBINAR
DESCRIPTION:We’re inviting new\, mid-level managers and business leaders to a FREE online preview webinar\, offering a sneak peek at Blanchard’s award-winning tools\, techniques\, and strategies to empower teams and boost performance. \nSign up for this FREE online preview webinar for your chance to WIN a spot in our upcoming Management Essentials course. \nThis Management Essentials course builds on Ken Blanchard and Spencer Johnson’s best-selling business book The New One Minute Manager\, which has helped millions of leaders develop more successful professional and personal lives. \nAfter completing Blanchard Management Essentials®\, 95% of participants feel equipped to handle tough conversations while preserving trust\, relationships and productivity. \nRegister for this FREE webinar here \nIf you would prefer to join our face to face lunch and learn  click here
URL:https://www.focushr.com.au/event/blanchard-management-essentials-preview-webinar/
LOCATION:Online
CATEGORIES:Free Webinars,Leading Teams Training
ORGANIZER;CN="Focus HR":MAILTO:info@focushr.com.au
END:VEVENT
BEGIN:VEVENT
DTSTART;TZID=Australia/Brisbane:20241113T123000
DTEND;TZID=Australia/Brisbane:20241113T133000
DTSTAMP:20260423T001644
CREATED:20241003T013939Z
LAST-MODIFIED:20241017T061647Z
UID:6953-1731501000-1731504600@www.focushr.com.au
SUMMARY:Blanchard Management Essentials | Lunch and Learn
DESCRIPTION:We’re inviting new\, mid-level managers and business leaders to a FREE preview workshop\, offering a sneak peek at Blanchard’s award-winning tools\, techniques\, and strategies to empower teams and boost performance (with light lunch provided). \nSign up for this FREE preview workshop for your chance to WIN a spot in our upcoming Management Essentials course. \nThis Management Essentials course builds on Ken Blanchard and Spencer Johnson’s best-selling business book The New One Minute Manager\, which has helped millions of leaders develop more successful professional and personal lives. \nAfter completing Blanchard Management Essentials®\, 95% of participants feel equipped to handle tough conversations while preserving trust\, relationships and productivity. \nIf you can not join our face to face lunch and learn\,  click here to register for our FREE Preview WEBINAR.
URL:https://www.focushr.com.au/event/blanchard-management-essentials-workshop/
LOCATION:Toowoomba City Library Meeting Rooms\, Herries Street\, Toowoomba\, Qld\, 4350\, Australia
CATEGORIES:Focus HR Events
ORGANIZER;CN="Focus HR":MAILTO:info@focushr.com.au
END:VEVENT
BEGIN:VEVENT
DTSTART;VALUE=DATE:20240627
DTEND;VALUE=DATE:20240628
DTSTAMP:20260423T001644
CREATED:20220207T062451Z
LAST-MODIFIED:20240619T225646Z
UID:3173-1719446400-1719532799@www.focushr.com.au
SUMMARY:Onboarding & Induction Workshop
DESCRIPTION:PLEASE NOTE THIS IS NOT A FREE WORKSHOP. PLEASE CONTACT US FOR DETAILS. \nA good onboarding and induction program is key to having an ultimately successful hire and avoiding potential failure of an expensive investment (the cost of recruiting and training new team members is often significantly underestimated and failure is often avoidable). \nEffective onboarding guides employees to success by building trust\, instilling your values\, setting expectations\, and ensuring they are trained to enable them to be productive as quickly as possible. We know that a new team member’s experience in their first few months sets the tone for the entire relationship. \nAn effective onboarding requires a structured and comprehensive experience that delivers a positive impression of the business for the new starter. We also know that when speed to competence is rapid\, line managers regard those hired more favourably. With high regard comes praise and with praise comes confidence and a sense of belonging. These are the perfect ingredients for a happy and successful new hire. \nFocus HR works with you to develop an effective\, powerful onboarding and induction process that will give your new employees a positive first experience and see them go from being a rookie to a star performer. \nThe workshop package includes: \nA half day group workshop to develop and tailor your Onboarding and Induction process \nTemplates and tools to kick start the process including: \n\nChecklists for pre-boarding\, induction and sign off\nSetting up your buddy system\nAn example Induction Trello Board\nInformation sheets for communicating expectations and first day information to employees\nA Training Skills Matrix\nManager and Peer check in guides\nTemplate Position Description\nTailored Employee Handbook\nPerformance tools relating to probation and providing guidance in the first 6 months\n\nINTERESTED? Please let us know by registering below and our team will be in touch to chat about the details.
URL:https://www.focushr.com.au/event/onboarding-induction-workshop/
LOCATION:TBC
CATEGORIES:Focus HR Events
ATTACH;FMTTYPE=image/jpeg:https://www.focushr.com.au/wp-content/uploads/amel-majanovic-SsFkepusWUQ-unsplash-scaled-e1715315155432.jpg
ORGANIZER;CN="Focus HR":MAILTO:info@focushr.com.au
END:VEVENT
BEGIN:VEVENT
DTSTART;TZID=Australia/Brisbane:20230209T072000
DTEND;TZID=Australia/Brisbane:20230209T083000
DTSTAMP:20260423T001644
CREATED:20230124T053225Z
LAST-MODIFIED:20230201T224837Z
UID:5162-1675927200-1675931400@www.focushr.com.au
SUMMARY:Family and Domestic Violence Leave Legislation - a FREE seminar
DESCRIPTION:The new Family and Domestic Violence Leave legislation coming into effect from 1 February 2023 affects all employers. This is an important development to understand in relation to both your obligations as an employer\, and how you and your managers may need to be ready to handle conversations with your people about challenging personal situations. \nThis seminar will be presented by Focus HR and Business Resilience Centre and will provide insights into: \n\nUnderstanding the entitlements under the new legislation\nHow to implement this on a practical level\nDeveloping a safety plan\nGuidance for Managers on how to initiate and respond to FDV related conversations\n\nThis is a must-attend for business owners/CEOs/GMs and HR practitioners seeking to understand how to implement this legislation at a practical\, people-oriented level. \nNumbers are limited\, so please register to attend ASAP. Light breakfast will be provided. Please indicate any dietary requirements and tea/coffee preferences on your registration. \n*Please note\, the venue for this event is unfortunately not wheelchair accessible. If you would like to attend and this is an issue for you\, please get in touch with us so we can make arrangements for you. \nPresenters will be Naomi Wilson & Zoe Locke. \nNaomi Wilson is the Founder of Focus HR | a people and leadership expert | international guest speaker | and mother of 2 who has been invited into the trusted space of working with over 500 businesses to help build winning teams and thriving businesses by getting their people\, strategy and leadership right. \nNaomi believes we should get to work with people we would enjoy having dinner with and that when we have great working relationships\, the result is powerful\, engaged\, winning teams. \n  \nZoe Locke is the Deputy Director of CatholicCare Social Services and has two decades of professional experience within the not-for-profit sector.  Zoe has extensive experience in a diverse number of leadership roles including Child Protection\, Family Law Services and Workplace Mediation.  Zoe is a qualified Family Dispute Resolution Practitioner (FDRP)\, a nationally accredited Mediator (NMAS) and Child Consultant and a graduate of the Australian Institute of Company Directors course (GAICD). \nWith a career primarily in people-centric organisations\, Zoe brings a rounded approach into the corporate leadership team through her passion for service innovation\, staff wellbeing and seeking positive outcomes for individuals\, families and our communities. \n  \n 
URL:https://www.focushr.com.au/event/family-and-domestic-violence-leave-legislation-a-free-seminar/
LOCATION:Catholic Care Training Rooms\, 502 Ruthven Street\, Toowoomba\, Qld\, 4350
CATEGORIES:Focus HR Events
ATTACH;FMTTYPE=image/png:https://www.focushr.com.au/wp-content/uploads/FDV-LEAVE-SEMINAR-2.png
ORGANIZER;CN="Focus HR":MAILTO:info@focushr.com.au
END:VEVENT
BEGIN:VEVENT
DTSTART;TZID=Australia/Brisbane:20221117T100000
DTEND;TZID=Australia/Brisbane:20221117T110000
DTSTAMP:20260423T001644
CREATED:20220217T023156Z
LAST-MODIFIED:20220306T071934Z
UID:3216-1668679200-1668682800@www.focushr.com.au
SUMMARY:Upward Feedback: The Right Way to Ask\, Receive and Respond to Feedback from Your Team - FREE webinar
DESCRIPTION:Employee engagement is the emotional commitment an employee has to their employer and its goals. This commitment means caring about their work and the business.  It is more than just being ‘satisfied’ to turn up from 9 to 5 and it is more than just being ‘happy’ at work. When employees care\, they are engaged\, they use discretionary effort. And it is that discretionary effort which gives your business a competitive advantage through winning people\, winning culture and winning teams. \nJoin Focus HR as we talk about how to engage with your people through upward feedback that is meaningful and impactful. \nRegister for this FREE webinar here
URL:https://www.focushr.com.au/event/upward-feedback-the-right-way-to-ask-receive-and-respond-to-feedback-from-your-team-a-free-webinar/
LOCATION:Online
CATEGORIES:Focus HR Events,Free Webinars
ATTACH;FMTTYPE=image/png:https://www.focushr.com.au/wp-content/uploads/9-1.png
ORGANIZER;CN="Focus HR":MAILTO:info@focushr.com.au
END:VEVENT
BEGIN:VEVENT
DTSTART;TZID=Australia/Brisbane:20221110T110000
DTEND;TZID=Australia/Brisbane:20221110T110000
DTSTAMP:20260423T001644
CREATED:20220217T022923Z
LAST-MODIFIED:20221101T035047Z
UID:3215-1668078000-1668078000@www.focushr.com.au
SUMMARY:Strategy: Using Vision and Purpose to Drive your Business - FREE webinar
DESCRIPTION:“The main thing is to keep the main thing the main thing”  – Stephen Covey \nA clearly identified and articulated vision\, purpose and goals empowers owners to align their team and maintain a laser-like focus on the bigger picture.  Owners who are effective at strategic thinking and implementation planning create an environment where everyone is pulling in the same direction. \nJoin Focus HR as we explore how strategy forms both the foundations and the guiding light for businesses who excel.  Attendees will be taken through practical exercises and receive some powerful tools to help kick-start your strategy journey. \nRegister for this FREE webinar here \nNot sure if you should attend? Take our three-minute Strategy and Vision Scorecard and find out!
URL:https://www.focushr.com.au/event/strategy-using-vision-and-purpose-to-drive-your-business-free-webinar/
LOCATION:Online
CATEGORIES:Focus HR Events,Free Webinars
ATTACH;FMTTYPE=image/png:https://www.focushr.com.au/wp-content/uploads/Focus-HR-webinar-tiles-640-×-200mm-3.png
ORGANIZER;CN="Focus HR":MAILTO:info@focushr.com.au
END:VEVENT
BEGIN:VEVENT
DTSTART;TZID=Australia/Brisbane:20220714T100000
DTEND;TZID=Australia/Brisbane:20220714T110000
DTSTAMP:20260423T001644
CREATED:20220217T020827Z
LAST-MODIFIED:20220720T013719Z
UID:3212-1657792800-1657796400@www.focushr.com.au
SUMMARY:Onboarding: Transitioning New Hires from Rookie to Star - FREE webinar
DESCRIPTION:Onboarding is the process that helps new employees shift from being outsiders to insiders with a sense of belonging to a business.  It is the process of integrating a new employee with a company and its culture\, as well as giving a new employee access to the tools\, training\, people and information needed to become a productive member of the team. \nIt is a key piece of the employee experience.  And yet so many companies get it wrong.  We’ve all had a first-day-horror story.  Join Focus HR as we cover the key elements of successful onboarding and induction and receive some great takeaway tools that you can implement in your business to move your next new hire from rookie to star performer in half the time. \nYou can watch the recording of this webinar here
URL:https://www.focushr.com.au/event/onboarding-transitioning-new-hires-from-rookie-to-star-free-webinar/
LOCATION:Online
CATEGORIES:Focus HR Events,Free Webinars
ATTACH;FMTTYPE=image/png:https://www.focushr.com.au/wp-content/uploads/6-1.png
ORGANIZER;CN="Focus HR":MAILTO:info@focushr.com.au
END:VEVENT
BEGIN:VEVENT
DTSTART;TZID=Australia/Brisbane:20220616T110000
DTEND;TZID=Australia/Brisbane:20220616T120000
DTSTAMP:20260423T001644
CREATED:20220217T020359Z
LAST-MODIFIED:20220306T071251Z
UID:3211-1655377200-1655380800@www.focushr.com.au
SUMMARY:IR Compliance: Understanding the Pyramid - FREE webinar
DESCRIPTION:Ever been confused by which piece of legislation you should be paying attention to when? You are not alone. Awards\, Agreements\, Fair Work Act\, NES\, WHS Act\, Policies … the list goes on. \nJoin the Focus HR team as we break the system down into a logical order and help you understand how to not just ensure your business’ compliance\, but better still\, achieve best practice in your people practices. \nRegister for this FREE webinar here
URL:https://www.focushr.com.au/event/ir-compliance-understanding-the-pyramid-free-webinar/
LOCATION:Online
CATEGORIES:Focus HR Events,Free Webinars
ATTACH;FMTTYPE=image/png:https://www.focushr.com.au/wp-content/uploads/5-1.png
ORGANIZER;CN="Focus HR":MAILTO:info@focushr.com.au
END:VEVENT
BEGIN:VEVENT
DTSTART;TZID=Australia/Brisbane:20220512T120000
DTEND;TZID=Australia/Brisbane:20220512T130000
DTSTAMP:20260423T001644
CREATED:20220217T015634Z
LAST-MODIFIED:20220520T000541Z
UID:3210-1652356800-1652360400@www.focushr.com.au
SUMMARY:Feedback & Performance Appraisals: A Development Focus - FREE webinar
DESCRIPTION:Performance reviews don’t improve performance. We know … that is like excommunicating ourselves from the HR profession … but they don’t. We need to move the mindset from performance review to performance development.  Every manager also needs to see a key part of their role as coaching the people in their teams. Not just training\, monitoring\, performance managing\, but genuinely coaching them to succeed. \nBecause of this\, Focus HR has adapted the contemporary Tim Baker’s ‘5 Conversations’ Model for performance appraisals and added a 6th topic where Success Indicators (KPIs/Targets or other similar measurements) apply. Together\, they form our 6 Coaching Conversations. \nJoin us as we take you through this new way of developing your people. \nYou can watch the recording of this webinar here \nNot sure whether this webinar is for you? Take our free 3 minute scorecard and find out!
URL:https://www.focushr.com.au/event/feedback-performance-appraisals-a-development-focus-free-webinar/
LOCATION:Online
CATEGORIES:Focus HR Events,Free Webinars
ATTACH;FMTTYPE=image/png:https://www.focushr.com.au/wp-content/uploads/4-1.png
ORGANIZER;CN="Focus HR":MAILTO:info@focushr.com.au
END:VEVENT
BEGIN:VEVENT
DTSTART;TZID=Australia/Brisbane:20220414T100000
DTEND;TZID=Australia/Brisbane:20220414T110000
DTSTAMP:20260423T001644
CREATED:20220217T015104Z
LAST-MODIFIED:20220331T234732Z
UID:3209-1649930400-1649934000@www.focushr.com.au
SUMMARY:Workforce Planning: Getting the Right People\, doing the Right Thing\, the Right Way - FREE webinar
DESCRIPTION:Leveraging is essential for business success.  It is about having the right people doing the right things in sync. Business owners need to be able to focus on the areas of their business where they can deliver the most value.  By leveraging the right people doing the right things at the right time\, the owner is freed up to focus on the vital\, high value work and outsource\, insource\, eliminate or delegate the functional tasks for greatest efficiency and maximum reward. \nJoin Focus HR as we look at the what\, how and who of workforce planning with the introduction of some powerful tools to start the process. \nRegister for this FREE webinar here \nNot sure if this is for you? Take our free three minute scorecard and find out! \n\n 
URL:https://www.focushr.com.au/event/workforce-planning-getting-the-right-people-doing-the-right-thing-the-right-way-free-webinar/
LOCATION:Online
CATEGORIES:Focus HR Events,Free Webinars
ATTACH;FMTTYPE=image/png:https://www.focushr.com.au/wp-content/uploads/3-1.png
ORGANIZER;CN="Focus HR":MAILTO:info@focushr.com.au
END:VEVENT
BEGIN:VEVENT
DTSTART;TZID=Australia/Brisbane:20220317T120000
DTEND;TZID=Australia/Brisbane:20220317T130000
DTSTAMP:20260423T001644
CREATED:20220217T014153Z
LAST-MODIFIED:20220301T004619Z
UID:3199-1647518400-1647522000@www.focushr.com.au
SUMMARY:Strategy: Using Vision and Purpose to Drive your Business - FREE webinar
DESCRIPTION:“The main thing is to keep the main thing the main thing”  – Stephen Covey \nA clearly identify and articulated vision\, purpose and goals empowers owners to align their team and maintain a laser-like focus on the bigger picture.  Owners who are effective at strategic thinking and implementation planning create an environment where everyone is pulling in the same direction.  Join Focus HR as we explore how strategy forms both the foundations and the guiding light for businesses who excel.  Attendees will be taken through practical exercises and receive some powerful tools to help kick-start your strategy journey. \nRegister for this FREE webinar here \nNot sure if you should attend? Take our three-minute Strategy and Vision Scorecard and find out!
URL:https://www.focushr.com.au/event/strategy-using-vision-and-purpose-to-drive-your-business/
LOCATION:Online
CATEGORIES:Focus HR Events,Free Webinars
ATTACH;FMTTYPE=image/png:https://www.focushr.com.au/wp-content/uploads/1-1.png
ORGANIZER;CN="Focus HR":MAILTO:info@focushr.com.au
END:VEVENT
BEGIN:VEVENT
DTSTART;TZID=Australia/Brisbane:20220217T120000
DTEND;TZID=Australia/Brisbane:20220217T130000
DTSTAMP:20260423T001644
CREATED:20220131T001933Z
LAST-MODIFIED:20220306T072734Z
UID:3087-1645099200-1645102800@www.focushr.com.au
SUMMARY:Culture\, Values and Team Building webinar
DESCRIPTION:“People are the most powerful\, inimitable asset in your business” Naomi Wilson \nYou can copy machines\, IT systems\, procedures\, software etc.  What you can’t copy is your people\, your team and your culture.  This is why it is inimitable. \nAnd until you’ve harnessed the power of your team\, your business will not reach its full potential. \nNot sure if you need to attend this webinar? Take our 3 minute scorecard here and find out! \nSo how do you do this? In our next free webinar\, Focus HR will take you through: \n\nunderstanding the competitive advantage of a great culture;\ngive insight into how to understand\, build and protect your culture and values; and\nshow how understanding each other leads to powerful team building (using the DiSC model)\n\nPlus there will be a special offer for attendees for our upcoming full day workshop where we dive deeper into setting the culture; defining and living the values and implementing DiSC for team building. \nYou can watch the webinar recording here – and please get in touch if you would like to chat.
URL:https://www.focushr.com.au/event/culture-values-and-team-building-webinar/
LOCATION:Online
CATEGORIES:Free Webinars
ATTACH;FMTTYPE=image/png:https://www.focushr.com.au/wp-content/uploads/Focus-HR-webinar-tiles.png
ORGANIZER;CN="Focus HR":MAILTO:info@focushr.com.au
END:VEVENT
BEGIN:VEVENT
DTSTART;TZID=Australia/Brisbane:20220128T100000
DTEND;TZID=Australia/Brisbane:20220128T113000
DTSTAMP:20260423T001644
CREATED:20220120T022247Z
LAST-MODIFIED:20220127T033933Z
UID:3059-1643364000-1643369400@www.focushr.com.au
SUMMARY:COVID in the Workplace Webinar
DESCRIPTION:In this webinar presented by Naomi Wilson from Focus HR and Chrissy Leong\, Specialist Lead Stakeholder Management from WorkCover Queensland\, we will cover: \n• How to treat COVID-related Leave\n• Implementing mask mandate (specifically those who won’t/can’t wear)\n• Vaccination policies (mandate vs encouragement)\n• Vaccination exemptions\n• Hiring unvaccinated persons (and measures to protect other employees)\n• Asking for Test results & evidence of vaccination\n• Q&A from Fair Work Website \nPLEASE REGISTER FOR THIS EVENT HERE – https://us02web.zoom.us/meeting/register/tZEud-qvrz0tHt3QCYrpFa8limBodNMojTEv
URL:https://www.focushr.com.au/event/covid-in-the-workplace-webinar/
LOCATION:Online
CATEGORIES:Focus HR Events
ATTACH;FMTTYPE=image/png:https://www.focushr.com.au/wp-content/uploads/Focus-HR-webinar-tile-2.png
ORGANIZER;CN="Focus HR":MAILTO:info@focushr.com.au
END:VEVENT
END:VCALENDAR