BEGIN:VCALENDAR
VERSION:2.0
PRODID:-//Focus HR - ECPv6.15.20//NONSGML v1.0//EN
CALSCALE:GREGORIAN
METHOD:PUBLISH
X-ORIGINAL-URL:https://www.focushr.com.au
X-WR-CALDESC:Events for Focus HR
REFRESH-INTERVAL;VALUE=DURATION:PT1H
X-Robots-Tag:noindex
X-PUBLISHED-TTL:PT1H
BEGIN:VTIMEZONE
TZID:Australia/Brisbane
BEGIN:STANDARD
TZOFFSETFROM:+1000
TZOFFSETTO:+1000
TZNAME:AEST
DTSTART:20230101T000000
END:STANDARD
END:VTIMEZONE
BEGIN:VEVENT
DTSTART;TZID=Australia/Brisbane:20241114T123000
DTEND;TZID=Australia/Brisbane:20241114T133000
DTSTAMP:20260423T115100
CREATED:20241017T055656Z
LAST-MODIFIED:20241017T060652Z
UID:7013-1731587400-1731591000@www.focushr.com.au
SUMMARY:Blanchard Management Essentials | Preview WEBINAR
DESCRIPTION:We’re inviting new\, mid-level managers and business leaders to a FREE online preview webinar\, offering a sneak peek at Blanchard’s award-winning tools\, techniques\, and strategies to empower teams and boost performance. \nSign up for this FREE online preview webinar for your chance to WIN a spot in our upcoming Management Essentials course. \nThis Management Essentials course builds on Ken Blanchard and Spencer Johnson’s best-selling business book The New One Minute Manager\, which has helped millions of leaders develop more successful professional and personal lives. \nAfter completing Blanchard Management Essentials®\, 95% of participants feel equipped to handle tough conversations while preserving trust\, relationships and productivity. \nRegister for this FREE webinar here \nIf you would prefer to join our face to face lunch and learn  click here
URL:https://www.focushr.com.au/event/blanchard-management-essentials-preview-webinar/
LOCATION:Online
CATEGORIES:Free Webinars,Leading Teams Training
ORGANIZER;CN="Focus HR":MAILTO:info@focushr.com.au
END:VEVENT
BEGIN:VEVENT
DTSTART;TZID=Australia/Brisbane:20241128T123000
DTEND;TZID=Australia/Brisbane:20241128T143000
DTSTAMP:20260423T115100
CREATED:20220923T044139Z
LAST-MODIFIED:20240512T140159Z
UID:4104-1732797000-1732804200@www.focushr.com.au
SUMMARY:Empowering through Effective Delegation - A Leading Teams Workshop
DESCRIPTION:Delegation is too often not done well or not done at all. Surprisingly\, delegation is not a skill that comes naturally to most. We’ll cover why and when to delegate and how to create conditions for success\, including giving clear\, unambiguous instructions\, setting expectations and uncovering and removing the barriers to productivity. \nWe’ll also look at what to do if delegation isn’t getting the job done. The workshop includes a number of powerful tools for knowing what to delegate and how to do this effectively. \nAgenda \n\n4 Reasons to Delegate\n3 Core Elements of Delegation\nWhat\, How\, Who\, When of Delegation\nEisenhower Matrix Tool\nDelegation Tools\nWhat to do if it’s not working\n\n 
URL:https://www.focushr.com.au/event/empowering-through-effective-delegation-a-leading-teams-workshop-23/
LOCATION:Zoom – Empowering through Effective Delegation
CATEGORIES:Leading Teams Training
ORGANIZER;CN="Focus HR":MAILTO:info@focushr.com.au
END:VEVENT
END:VCALENDAR