BEGIN:VCALENDAR
VERSION:2.0
PRODID:-//Focus HR - ECPv6.15.20//NONSGML v1.0//EN
CALSCALE:GREGORIAN
METHOD:PUBLISH
X-WR-CALNAME:Focus HR
X-ORIGINAL-URL:https://www.focushr.com.au
X-WR-CALDESC:Events for Focus HR
REFRESH-INTERVAL;VALUE=DURATION:PT1H
X-Robots-Tag:noindex
X-PUBLISHED-TTL:PT1H
BEGIN:VTIMEZONE
TZID:Australia/Brisbane
BEGIN:STANDARD
TZOFFSETFROM:+1000
TZOFFSETTO:+1000
TZNAME:AEST
DTSTART:20210101T000000
END:STANDARD
END:VTIMEZONE
BEGIN:VEVENT
DTSTART;TZID=Australia/Brisbane:20220217T120000
DTEND;TZID=Australia/Brisbane:20220217T130000
DTSTAMP:20260426T060405
CREATED:20220131T001933Z
LAST-MODIFIED:20220306T072734Z
UID:3087-1645099200-1645102800@www.focushr.com.au
SUMMARY:Culture\, Values and Team Building webinar
DESCRIPTION:“People are the most powerful\, inimitable asset in your business” Naomi Wilson \nYou can copy machines\, IT systems\, procedures\, software etc.  What you can’t copy is your people\, your team and your culture.  This is why it is inimitable. \nAnd until you’ve harnessed the power of your team\, your business will not reach its full potential. \nNot sure if you need to attend this webinar? Take our 3 minute scorecard here and find out! \nSo how do you do this? In our next free webinar\, Focus HR will take you through: \n\nunderstanding the competitive advantage of a great culture;\ngive insight into how to understand\, build and protect your culture and values; and\nshow how understanding each other leads to powerful team building (using the DiSC model)\n\nPlus there will be a special offer for attendees for our upcoming full day workshop where we dive deeper into setting the culture; defining and living the values and implementing DiSC for team building. \nYou can watch the webinar recording here – and please get in touch if you would like to chat.
URL:https://www.focushr.com.au/event/culture-values-and-team-building-webinar/
LOCATION:Online
CATEGORIES:Free Webinars
ATTACH;FMTTYPE=image/png:https://www.focushr.com.au/wp-content/uploads/Focus-HR-webinar-tiles.png
ORGANIZER;CN="Focus HR":MAILTO:info@focushr.com.au
END:VEVENT
END:VCALENDAR