BEGIN:VCALENDAR
VERSION:2.0
PRODID:-//Focus HR - ECPv6.15.20//NONSGML v1.0//EN
CALSCALE:GREGORIAN
METHOD:PUBLISH
X-ORIGINAL-URL:https://www.focushr.com.au
X-WR-CALDESC:Events for Focus HR
REFRESH-INTERVAL;VALUE=DURATION:PT1H
X-Robots-Tag:noindex
X-PUBLISHED-TTL:PT1H
BEGIN:VTIMEZONE
TZID:Australia/Brisbane
BEGIN:STANDARD
TZOFFSETFROM:+1000
TZOFFSETTO:+1000
TZNAME:AEST
DTSTART:20210101T000000
END:STANDARD
END:VTIMEZONE
BEGIN:VEVENT
DTSTART;TZID=Australia/Brisbane:20220414T100000
DTEND;TZID=Australia/Brisbane:20220414T110000
DTSTAMP:20260425T203622
CREATED:20220217T015104Z
LAST-MODIFIED:20220331T234732Z
UID:3209-1649930400-1649934000@www.focushr.com.au
SUMMARY:Workforce Planning: Getting the Right People\, doing the Right Thing\, the Right Way - FREE webinar
DESCRIPTION:Leveraging is essential for business success.  It is about having the right people doing the right things in sync. Business owners need to be able to focus on the areas of their business where they can deliver the most value.  By leveraging the right people doing the right things at the right time\, the owner is freed up to focus on the vital\, high value work and outsource\, insource\, eliminate or delegate the functional tasks for greatest efficiency and maximum reward. \nJoin Focus HR as we look at the what\, how and who of workforce planning with the introduction of some powerful tools to start the process. \nRegister for this FREE webinar here \nNot sure if this is for you? Take our free three minute scorecard and find out! \n\n 
URL:https://www.focushr.com.au/event/workforce-planning-getting-the-right-people-doing-the-right-thing-the-right-way-free-webinar/
LOCATION:Online
CATEGORIES:Focus HR Events,Free Webinars
ATTACH;FMTTYPE=image/png:https://www.focushr.com.au/wp-content/uploads/3-1.png
ORGANIZER;CN="Focus HR":MAILTO:info@focushr.com.au
END:VEVENT
BEGIN:VEVENT
DTSTART;TZID=Australia/Brisbane:20220414T123000
DTEND;TZID=Australia/Brisbane:20220414T143000
DTSTAMP:20260425T203622
CREATED:20210603T010427Z
LAST-MODIFIED:20220306T070724Z
UID:1729-1649939400-1649946600@www.focushr.com.au
SUMMARY:Managing Leave - A Leading Teams Workshop
DESCRIPTION:Leave\, whether it is sick leave\, carer’s leave\, compassionate leave or annual leave\, is something that all managers have to deal with\, but few understand what they can and can’t do. \nThis session takes a detailed and practical look at the different types of leave\, employee rights\, employer rights and record keeping with the aim of building confidence to respond when leave questions and issues arise. We cover the most frequently asked questions that managers face when managing leave. \nAgenda \n\nThe right mindset\nAnnual leave\nPersonal leave\nLong service leave\nOther leave\nManaging Leave\nFAQs\n\nNo availability in this session? We will be holding another session in the near future. Please contact us to register your interest in the next date for this workshop.
URL:https://www.focushr.com.au/event/managing-leave-2/
LOCATION:Online
CATEGORIES:Leading Teams Training
ORGANIZER;CN="Focus HR":MAILTO:info@focushr.com.au
END:VEVENT
END:VCALENDAR